  BEGIN:VCALENDAR
VERSION:2.0
PRODID:-//Yee Hong - ECPv6.6.4.2//NONSGML v1.0//EN
CALSCALE:GREGORIAN
METHOD:PUBLISH
X-WR-CALNAME:Yee Hong
X-ORIGINAL-URL:https://www.yeehong.com
X-WR-CALDESC:Events for Yee Hong
REFRESH-INTERVAL;VALUE=DURATION:PT1H
X-Robots-Tag:noindex
X-PUBLISHED-TTL:PT1H
BEGIN:VTIMEZONE
TZID:America/Toronto
BEGIN:DAYLIGHT
TZOFFSETFROM:-0500
TZOFFSETTO:-0400
TZNAME:EDT
DTSTART:20210314T070000
END:DAYLIGHT
BEGIN:STANDARD
TZOFFSETFROM:-0400
TZOFFSETTO:-0500
TZNAME:EST
DTSTART:20211107T060000
END:STANDARD
END:VTIMEZONE
BEGIN:VEVENT
DTSTART;TZID=America/Toronto:20210102T100000
DTEND;TZID=America/Toronto:20210102T110000
DTSTAMP:20260421T190726
CREATED:20201229T231423Z
LAST-MODIFIED:20201229T231505Z
UID:29259-1609581600-1609585200@www.yeehong.com
SUMMARY:Yee Hong Virtual Program – Parkinson’s Disease Self-Management Group (Cantonese)
DESCRIPTION:On the first Saturday of each month\, Yee Hong hosts a support group for individuals living with Parkinson’s Disease. \nRegistration is required. New clients who wish to join should contact 416-412-4571 ext. 2361 for more information. \nProgram fee: FREE \nLanguage: Cantonese
URL:https://www.yeehong.com/cso-event/yee-hong-virtual-program-parkinsons-disease-self-management-group-cantonese/
CATEGORIES:Adult Day Program
END:VEVENT
END:VCALENDAR