  BEGIN:VCALENDAR
VERSION:2.0
PRODID:-//Yee Hong - ECPv6.6.4.2//NONSGML v1.0//EN
CALSCALE:GREGORIAN
METHOD:PUBLISH
X-ORIGINAL-URL:https://www.yeehong.com
X-WR-CALDESC:Events for Yee Hong
REFRESH-INTERVAL;VALUE=DURATION:PT1H
X-Robots-Tag:noindex
X-PUBLISHED-TTL:PT1H
BEGIN:VTIMEZONE
TZID:America/Toronto
BEGIN:DAYLIGHT
TZOFFSETFROM:-0500
TZOFFSETTO:-0400
TZNAME:EDT
DTSTART:20210314T070000
END:DAYLIGHT
BEGIN:STANDARD
TZOFFSETFROM:-0400
TZOFFSETTO:-0500
TZNAME:EST
DTSTART:20211107T060000
END:STANDARD
END:VTIMEZONE
BEGIN:VEVENT
DTSTART;TZID=America/Toronto:20210104T100000
DTEND;TZID=America/Toronto:20210104T110000
DTSTAMP:20260421T114935
CREATED:20201229T205552Z
LAST-MODIFIED:20201229T210444Z
UID:29077-1609754400-1609758000@www.yeehong.com
SUMMARY:Webinar 1: Benefits of Gardening (Cantonese)
DESCRIPTION:Language: Cantonese \nSpeaker: Mr. Billy To\, Landscape Designer \nTo register\, please email caregiver.edu@yeehong.com and kindly indicate webinar number(s). \n  \n 
URL:https://www.yeehong.com/cso-event/webinar-benefits-of-gardening-cantonese/
CATEGORIES:Caregiver Education & Support
END:VEVENT
BEGIN:VEVENT
DTSTART;TZID=America/Toronto:20210104T100000
DTEND;TZID=America/Toronto:20210104T113000
DTSTAMP:20260421T114935
CREATED:20201229T235657Z
LAST-MODIFIED:20201229T235657Z
UID:29340-1609754400-1609759800@www.yeehong.com
SUMMARY:Yee Hong Virtual Program – Mississauga CD (Cantonese)
DESCRIPTION:Virtual programming to support the social\, recreational\, physical\, and cognitive wellbeing of clients of our Mississauga Congregate Dining Program. \nNew clients who wish to join the program should contact 416-412-4571 ext. 4301 for more information. \nProgram Fee: $5 per session \nLanguage: Cantonese \n  \n 
URL:https://www.yeehong.com/cso-event/yee-hong-virtual-program-mississauga-cd-cantonese-2/
CATEGORIES:Congregate Dining
END:VEVENT
BEGIN:VEVENT
DTSTART;TZID=America/Toronto:20210104T100000
DTEND;TZID=America/Toronto:20210104T114500
DTSTAMP:20260421T114935
CREATED:20201229T232422Z
LAST-MODIFIED:20201229T232628Z
UID:29262-1609754400-1609760700@www.yeehong.com
SUMMARY:Yee Hong Virtual Program – Markham ADP (Cantonese)
DESCRIPTION:Virtual programming to support the social\, recreational\, physical\, and cognitive wellbeing of clients of our Markham Adult Day Program. \nNew clients who wish to join the program should contact 416-412-4571 ext. 3603 for more information. \nLanguage: Cantonese \n  \n 
URL:https://www.yeehong.com/cso-event/yee-hong-virtual-program-markham-adp-cantonese-7/
CATEGORIES:Adult Day Program
END:VEVENT
BEGIN:VEVENT
DTSTART;TZID=America/Toronto:20210104T101500
DTEND;TZID=America/Toronto:20210104T114500
DTSTAMP:20260421T114935
CREATED:20201229T224342Z
LAST-MODIFIED:20201229T230808Z
UID:29221-1609755300-1609760700@www.yeehong.com
SUMMARY:Yee Hong Virtual Program – Parkinson’s ADP (Cantonese)
DESCRIPTION:Virtual programming to support the social\, recreational\, physical\, and cognitive wellbeing of clients of our Parkinson’s Adult Day Program. \nNew clients who wish to join should contact 416-412-4571 ext. 2361 for more information. \nProgram Fee: $5 per session \nLanguage: Cantonese
URL:https://www.yeehong.com/cso-event/yee-hong-virtual-program-parkinsons-adp-cantonese-3/
CATEGORIES:Adult Day Program
END:VEVENT
BEGIN:VEVENT
DTSTART;TZID=America/Toronto:20210104T101500
DTEND;TZID=America/Toronto:20210104T114500
DTSTAMP:20260421T114935
CREATED:20201229T235145Z
LAST-MODIFIED:20201229T235145Z
UID:29325-1609755300-1609760700@www.yeehong.com
SUMMARY:Yee Hong Virtual Program – Metro CD (Cantonese)
DESCRIPTION:Virtual programming to support the social\, educational\, and recreational needs of isolated seniors in the community. \nNew clients who wish to join the program should contact 416-412-4571 ext. 2621 for more information. \nProgram Fee: $5 per session \nLanguage: Cantonese \n  \n 
URL:https://www.yeehong.com/cso-event/yee-hong-virtual-program-metro-cd-cantonese-3/
CATEGORIES:Congregate Dining
END:VEVENT
END:VCALENDAR