  BEGIN:VCALENDAR
VERSION:2.0
PRODID:-//Yee Hong - ECPv6.6.4.2//NONSGML v1.0//EN
CALSCALE:GREGORIAN
METHOD:PUBLISH
X-WR-CALNAME:Yee Hong
X-ORIGINAL-URL:https://www.yeehong.com
X-WR-CALDESC:Events for Yee Hong
REFRESH-INTERVAL;VALUE=DURATION:PT1H
X-Robots-Tag:noindex
X-PUBLISHED-TTL:PT1H
BEGIN:VTIMEZONE
TZID:America/Toronto
BEGIN:DAYLIGHT
TZOFFSETFROM:-0500
TZOFFSETTO:-0400
TZNAME:EDT
DTSTART:20210314T070000
END:DAYLIGHT
BEGIN:STANDARD
TZOFFSETFROM:-0400
TZOFFSETTO:-0500
TZNAME:EST
DTSTART:20211107T060000
END:STANDARD
END:VTIMEZONE
BEGIN:VEVENT
DTSTART;TZID=America/Toronto:20210118T100000
DTEND;TZID=America/Toronto:20210118T110000
DTSTAMP:20260421T062459
CREATED:20201229T213012Z
LAST-MODIFIED:20210115T203753Z
UID:29173-1610964000-1610967600@www.yeehong.com
SUMMARY:Webinar 8: Cultivating Happiness (Cantonese)
DESCRIPTION:Based on Acceptance and Commitment Therapy (ACT)\, this workshop encourages participants to develop different perspectives on life\, improve psychological flexibility and improve mental health. \nLanguage: Cantonese \nSpeaker: Ms. Mabel Ho\, RSW \n\n  \n 
URL:https://www.yeehong.com/cso-event/webinar-8-cultivating-happiness-cantonese/
CATEGORIES:Caregiver Education & Support
END:VEVENT
END:VCALENDAR