  BEGIN:VCALENDAR
VERSION:2.0
PRODID:-//Yee Hong - ECPv6.6.4.2//NONSGML v1.0//EN
CALSCALE:GREGORIAN
METHOD:PUBLISH
X-ORIGINAL-URL:https://www.yeehong.com
X-WR-CALDESC:Events for Yee Hong
REFRESH-INTERVAL;VALUE=DURATION:PT1H
X-Robots-Tag:noindex
X-PUBLISHED-TTL:PT1H
BEGIN:VTIMEZONE
TZID:America/Toronto
BEGIN:DAYLIGHT
TZOFFSETFROM:-0500
TZOFFSETTO:-0400
TZNAME:EDT
DTSTART:20210314T070000
END:DAYLIGHT
BEGIN:STANDARD
TZOFFSETFROM:-0400
TZOFFSETTO:-0500
TZNAME:EST
DTSTART:20211107T060000
END:STANDARD
END:VTIMEZONE
BEGIN:VEVENT
DTSTART;TZID=America/Toronto:20210122T100000
DTEND;TZID=America/Toronto:20210122T110000
DTSTAMP:20260421T171701
CREATED:20201229T213744Z
LAST-MODIFIED:20210114T004650Z
UID:29179-1611309600-1611313200@www.yeehong.com
SUMMARY:Webinar 11: A Music Moment for Us (Cantonese)
DESCRIPTION:Let’s come and enjoy an hour of virtual music exploration tour! \nLanguage: Cantonese \nSpeaker: Ms. Karen Kwok\, MTA\, MT-BC \n\n  \n 
URL:https://www.yeehong.com/cso-event/webinar-11-a-music-moment-for-us-cantonese/
CATEGORIES:Caregiver Education & Support
END:VEVENT
BEGIN:VEVENT
DTSTART;TZID=America/Toronto:20210122T150000
DTEND;TZID=America/Toronto:20210122T160000
DTSTAMP:20260421T171701
CREATED:20201229T213911Z
LAST-MODIFIED:20210114T013316Z
UID:29181-1611327600-1611331200@www.yeehong.com
SUMMARY:Webinar 12: How to Maintain Healthy Bones and Joints (Mandarin)
DESCRIPTION:How to achieve bone and joint health and rehabilitation through diet\, exercise and nutritional supplements \nLanguage: Mandarin \nSpeaker: Ms. Julia Qiao\, Nutrition Practitioner \n\n  \n 
URL:https://www.yeehong.com/cso-event/webinar-12-how-to-maintain-healthy-bones-and-joints-mandarin/
CATEGORIES:Caregiver Education & Support
END:VEVENT
END:VCALENDAR