  BEGIN:VCALENDAR
VERSION:2.0
PRODID:-//Yee Hong - ECPv6.6.4.2//NONSGML v1.0//EN
CALSCALE:GREGORIAN
METHOD:PUBLISH
X-WR-CALNAME:Yee Hong
X-ORIGINAL-URL:https://www.yeehong.com
X-WR-CALDESC:Events for Yee Hong
REFRESH-INTERVAL;VALUE=DURATION:PT1H
X-Robots-Tag:noindex
X-PUBLISHED-TTL:PT1H
BEGIN:VTIMEZONE
TZID:America/Toronto
BEGIN:DAYLIGHT
TZOFFSETFROM:-0500
TZOFFSETTO:-0400
TZNAME:EDT
DTSTART:20210314T070000
END:DAYLIGHT
BEGIN:STANDARD
TZOFFSETFROM:-0400
TZOFFSETTO:-0500
TZNAME:EST
DTSTART:20211107T060000
END:STANDARD
END:VTIMEZONE
BEGIN:VEVENT
DTSTART;TZID=America/Toronto:20210125T100000
DTEND;TZID=America/Toronto:20210125T110000
DTSTAMP:20260422T204844
CREATED:20201229T214045Z
LAST-MODIFIED:20210114T013352Z
UID:29183-1611568800-1611572400@www.yeehong.com
SUMMARY:Webinar 13: Housing Options for Older Adults (Mandarin)
DESCRIPTION:Information on senior housing options and how to apply. \nLanguage: Mandarin \nSpeaker: Ms. Angela Guo\, RSW \n\n  \n 
URL:https://www.yeehong.com/cso-event/webinar-13-housing-options-for-older-adults-mandarin/
CATEGORIES:Caregiver Education & Support
END:VEVENT
BEGIN:VEVENT
DTSTART;TZID=America/Toronto:20210125T100000
DTEND;TZID=America/Toronto:20210125T110000
DTSTAMP:20260422T204844
CREATED:20210125T150512Z
LAST-MODIFIED:20210125T150512Z
UID:33013-1611568800-1611572400@www.yeehong.com
SUMMARY:Active Seniors Yoga Class
DESCRIPTION:Virtual Yoga class offered through the Yee Hong Active Seniors Program. \nPrice and availability of classes vary and are subject to change. Please contact Philip.ho@yeehong.com or 416-412-4571 ext. 2637 for more information. \nLanguage: Cantonese
URL:https://www.yeehong.com/cso-event/active-seniors-yoga-class-4/
CATEGORIES:Active Seniors Program
END:VEVENT
END:VCALENDAR