  BEGIN:VCALENDAR
VERSION:2.0
PRODID:-//Yee Hong - ECPv6.6.4.2//NONSGML v1.0//EN
CALSCALE:GREGORIAN
METHOD:PUBLISH
X-ORIGINAL-URL:https://www.yeehong.com
X-WR-CALDESC:Events for Yee Hong
REFRESH-INTERVAL;VALUE=DURATION:PT1H
X-Robots-Tag:noindex
X-PUBLISHED-TTL:PT1H
BEGIN:VTIMEZONE
TZID:America/Toronto
BEGIN:DAYLIGHT
TZOFFSETFROM:-0500
TZOFFSETTO:-0400
TZNAME:EDT
DTSTART:20210314T070000
END:DAYLIGHT
BEGIN:STANDARD
TZOFFSETFROM:-0400
TZOFFSETTO:-0500
TZNAME:EST
DTSTART:20211107T060000
END:STANDARD
END:VTIMEZONE
BEGIN:VEVENT
DTSTART;TZID=America/Toronto:20210126T100000
DTEND;TZID=America/Toronto:20210126T113000
DTSTAMP:20260423T002826
CREATED:20201229T214703Z
LAST-MODIFIED:20210120T160353Z
UID:29188-1611655200-1611660600@www.yeehong.com
SUMMARY:Webinar 14: The Knowledge and Skills Needed for In-Home Dementia Care (6-Session Course)
DESCRIPTION:This course will provide you with practical skills and strategies for coping with dementia older adult. Please join and share your concerns with our professionals. \nTotal of 6 sessions from January 26 to March 2\, 2021 (Every Tuesday) \nSession 1: The Stages of Dementia (January 26\, 2021) \nLanguage: Cantonese \nSpeaker: Dr. Jason Kwok\, Family Physician \nFee: $75 \nFor inquiries\, please contact Mr. Nicky Lam\, RSW at 416-412-4571 ext. 2608
URL:https://www.yeehong.com/cso-event/webinar-14-the-knowledge-and-skills-needed-for-in-home-dementia-care-6-session-course/
CATEGORIES:Caregiver Education & Support
END:VEVENT
END:VCALENDAR