  BEGIN:VCALENDAR
VERSION:2.0
PRODID:-//Yee Hong - ECPv6.6.4.2//NONSGML v1.0//EN
CALSCALE:GREGORIAN
METHOD:PUBLISH
X-ORIGINAL-URL:https://www.yeehong.com
X-WR-CALDESC:Events for Yee Hong
REFRESH-INTERVAL;VALUE=DURATION:PT1H
X-Robots-Tag:noindex
X-PUBLISHED-TTL:PT1H
BEGIN:VTIMEZONE
TZID:America/Toronto
BEGIN:DAYLIGHT
TZOFFSETFROM:-0500
TZOFFSETTO:-0400
TZNAME:EDT
DTSTART:20210314T070000
END:DAYLIGHT
BEGIN:STANDARD
TZOFFSETFROM:-0400
TZOFFSETTO:-0500
TZNAME:EST
DTSTART:20211107T060000
END:STANDARD
END:VTIMEZONE
BEGIN:VEVENT
DTSTART;TZID=America/Toronto:20210129T100000
DTEND;TZID=America/Toronto:20210129T110000
DTSTAMP:20260423T080257
CREATED:20201229T215252Z
LAST-MODIFIED:20210114T014007Z
UID:29196-1611914400-1611918000@www.yeehong.com
SUMMARY:Webinar 18: Understanding Psychological Age & Physiological Age (Cantonese)
DESCRIPTION:Understanding the factors that make psychological age and physiological age difference. \nLanguage: Cantonese \nSpeaker: Mr. Nicky Lam\, RSW \n\n  \n 
URL:https://www.yeehong.com/cso-event/webinar-18-understanding-psychological-age-physiological-age-cantonese/
CATEGORIES:Caregiver Education & Support
END:VEVENT
END:VCALENDAR