  BEGIN:VCALENDAR
VERSION:2.0
PRODID:-//Yee Hong - ECPv6.6.4.2//NONSGML v1.0//EN
CALSCALE:GREGORIAN
METHOD:PUBLISH
X-ORIGINAL-URL:https://www.yeehong.com
X-WR-CALDESC:Events for Yee Hong
REFRESH-INTERVAL;VALUE=DURATION:PT1H
X-Robots-Tag:noindex
X-PUBLISHED-TTL:PT1H
BEGIN:VTIMEZONE
TZID:America/Toronto
BEGIN:DAYLIGHT
TZOFFSETFROM:-0500
TZOFFSETTO:-0400
TZNAME:EDT
DTSTART:20210314T070000
END:DAYLIGHT
BEGIN:STANDARD
TZOFFSETFROM:-0400
TZOFFSETTO:-0500
TZNAME:EST
DTSTART:20211107T060000
END:STANDARD
END:VTIMEZONE
BEGIN:VEVENT
DTSTART;TZID=America/Toronto:20210201T100000
DTEND;TZID=America/Toronto:20210201T113000
DTSTAMP:20260423T132605
CREATED:20210131T003738Z
LAST-MODIFIED:20210131T003738Z
UID:36764-1612173600-1612179000@www.yeehong.com
SUMMARY:Yee Hong Virtual Program – Mississauga CD (Cantonese)
DESCRIPTION:Virtual programming to support the social\, recreational\, physical\, and cognitive wellbeing of clients of our Mississauga Congregate Dining Program. \nNew clients who wish to join the program should contact 416-412-4571 ext. 4301 for more information. \nProgram fee: $5 per session
URL:https://www.yeehong.com/cso-event/yee-hong-virtual-program-mississauga-cd-cantonese-4/
CATEGORIES:Congregate Dining
END:VEVENT
BEGIN:VEVENT
DTSTART;TZID=America/Toronto:20210201T100000
DTEND;TZID=America/Toronto:20210201T114500
DTSTAMP:20260423T132605
CREATED:20210130T184951Z
LAST-MODIFIED:20210130T184951Z
UID:34950-1612173600-1612179900@www.yeehong.com
SUMMARY:Yee Hong Virtual Program – Markham ADP (Cantonese)
DESCRIPTION:Virtual programming to support the social\, recreational\, physical\, and cognitive wellbeing of clients of our Markham Adult Day Program. \nNew clients who wish to join the program should contact 416-412-4571 ext. 3603 for more information.
URL:https://www.yeehong.com/cso-event/yee-hong-virtual-program-markham-adp-cantonese-12/
CATEGORIES:Adult Day Program
END:VEVENT
BEGIN:VEVENT
DTSTART;TZID=America/Toronto:20210201T101500
DTEND;TZID=America/Toronto:20210201T114500
DTSTAMP:20260423T132605
CREATED:20210130T180320Z
LAST-MODIFIED:20210130T183151Z
UID:34415-1612174500-1612179900@www.yeehong.com
SUMMARY:Yee Hong Virtual Program – Parkinson’s ADP (Cantonese)
DESCRIPTION:Virtual programming to support the social\, recreational\, physical\, and cognitive wellbeing of clients of our Parkinson’s Adult Day Program. \nNew clients who wish to join should contact 416-412-4571 ext. 2361 for more information. \nProgram fee: $5 per session
URL:https://www.yeehong.com/cso-event/yee-hong-virtual-program-parkinsons-adp-cantonese-2/
CATEGORIES:Adult Day Program
END:VEVENT
BEGIN:VEVENT
DTSTART;TZID=America/Toronto:20210201T123000
DTEND;TZID=America/Toronto:20210201T143000
DTSTAMP:20260423T132605
CREATED:20210114T223830Z
LAST-MODIFIED:20210128T150050Z
UID:31524-1612182600-1612189800@www.yeehong.com
SUMMARY:Care Companion Online Training Program (Cantonese)
DESCRIPTION:The “Care Companion Training Program” aims to help participants understand how to provide meal preparation\, light housekeeping\, laundry\, grocery shopping\, well-being support and companionship and appointment assistance to older adults and people in need. \nCourse dates: February 1\, 2 & 3\, 2021 \nTime: 12:30-2:30PM (Toronto time) \nFor more information\, please contact 905-597-9380 or email caregiver.edu@yeehong.com \nCourse fee: $99
URL:https://www.yeehong.com/cso-event/care-companion-online-training-program-day-1-cantonese/
CATEGORIES:Caregiver Education & Support
END:VEVENT
BEGIN:VEVENT
DTSTART;TZID=America/Toronto:20210201T150000
DTEND;TZID=America/Toronto:20210201T170000
DTSTAMP:20260423T132605
CREATED:20210115T205207Z
LAST-MODIFIED:20210128T150118Z
UID:31611-1612191600-1612198800@www.yeehong.com
SUMMARY:Care Companion Online Training Program (Mandarin)
DESCRIPTION:The “Care Companion Training Program” aims to help participants understand how to provide meal preparation\, light housekeeping\, laundry\, grocery shopping\, well-being support and companionship and appointment assistance to older adults and people in need. \nCourse dates: February 1\, 2 & 3\, 2021 \nTime: 3:00-5:00PM (Toronto time) \nFor more information\, please contact 905-597-9380 or email caregiver.edu@yeehong.com \nCourse fee: $99
URL:https://www.yeehong.com/cso-event/care-companion-online-training-program-day-1-mandarin/
CATEGORIES:Caregiver Education & Support
END:VEVENT
END:VCALENDAR