  BEGIN:VCALENDAR
VERSION:2.0
PRODID:-//Yee Hong - ECPv6.6.4.2//NONSGML v1.0//EN
CALSCALE:GREGORIAN
METHOD:PUBLISH
X-WR-CALNAME:Yee Hong
X-ORIGINAL-URL:https://www.yeehong.com
X-WR-CALDESC:Events for Yee Hong
REFRESH-INTERVAL;VALUE=DURATION:PT1H
X-Robots-Tag:noindex
X-PUBLISHED-TTL:PT1H
BEGIN:VTIMEZONE
TZID:America/Toronto
BEGIN:DAYLIGHT
TZOFFSETFROM:-0500
TZOFFSETTO:-0400
TZNAME:EDT
DTSTART:20210314T070000
END:DAYLIGHT
BEGIN:STANDARD
TZOFFSETFROM:-0400
TZOFFSETTO:-0500
TZNAME:EST
DTSTART:20211107T060000
END:STANDARD
END:VTIMEZONE
BEGIN:VEVENT
DTSTART;TZID=America/Toronto:20210205T100000
DTEND;TZID=America/Toronto:20210205T103000
DTSTAMP:20260424T101549
CREATED:20210128T194936Z
LAST-MODIFIED:20210128T195324Z
UID:34133-1612519200-1612521000@www.yeehong.com
SUMMARY:Webinar 3: Brain Beat Dance
DESCRIPTION:This is a modern exercise for brain Jogging. \nLanguage: Cantonese \nSpeakers: Ms. May Wong\, President of BBDCSA \n 
URL:https://www.yeehong.com/cso-event/webinar-3-brain-beat-dance/
CATEGORIES:Caregiver Education & Support
END:VEVENT
BEGIN:VEVENT
DTSTART;TZID=America/Toronto:20210205T143000
DTEND;TZID=America/Toronto:20210205T160000
DTSTAMP:20260424T101549
CREATED:20210130T194359Z
LAST-MODIFIED:20210130T194359Z
UID:35567-1612535400-1612540800@www.yeehong.com
SUMMARY:Yee Hong Virtual Program – Markham ADP (Cantonese)
DESCRIPTION:Virtual programming to support the social\, recreational\, physical\, and cognitive wellbeing of clients of our Markham Adult Day Program. \nNew clients who wish to join the program should contact 416-412-4571 ext. 3603 for more information.
URL:https://www.yeehong.com/cso-event/yee-hong-virtual-program-markham-adp-cantonese-16/
CATEGORIES:Adult Day Program
END:VEVENT
END:VCALENDAR