  BEGIN:VCALENDAR
VERSION:2.0
PRODID:-//Yee Hong - ECPv6.6.4.2//NONSGML v1.0//EN
CALSCALE:GREGORIAN
METHOD:PUBLISH
X-ORIGINAL-URL:https://www.yeehong.com/zh-hans/
X-WR-CALDESC:Events for Yee Hong
REFRESH-INTERVAL;VALUE=DURATION:PT1H
X-Robots-Tag:noindex
X-PUBLISHED-TTL:PT1H
BEGIN:VTIMEZONE
TZID:America/Toronto
BEGIN:DAYLIGHT
TZOFFSETFROM:-0500
TZOFFSETTO:-0400
TZNAME:EDT
DTSTART:20250309T070000
END:DAYLIGHT
BEGIN:STANDARD
TZOFFSETFROM:-0400
TZOFFSETTO:-0500
TZNAME:EST
DTSTART:20251102T060000
END:STANDARD
END:VTIMEZONE
BEGIN:VEVENT
DTSTART;TZID=America/Toronto:20250325T100000
DTEND;TZID=America/Toronto:20250325T110000
DTSTAMP:20260423T152457
CREATED:20250224T204057Z
LAST-MODIFIED:20250224T204058Z
UID:290932-1742896800-1742900400@www.yeehong.com
SUMMARY:应对认知障碍者行为问题--广东话
DESCRIPTION:照顾认知障碍症长者常面临行为挑战，如重复提问、焦虑、游走等。本讲座将介绍实用应对技巧，让日常照顾更轻松有效。 \nClick here for Registration 请按此处登记
URL:https://www.yeehong.com/zh-hans/cso-event/%e5%ba%94%e5%af%b9%e8%ae%a4%e7%9f%a5%e9%9a%9c%e7%a2%8d%e8%80%85%e8%a1%8c%e4%b8%ba%e9%97%ae%e9%a2%98-%e5%b9%bf%e4%b8%9c%e8%af%9d/
CATEGORIES:护老教育及支援服务
END:VEVENT
END:VCALENDAR