  BEGIN:VCALENDAR
VERSION:2.0
PRODID:-//Yee Hong - ECPv6.6.4.2//NONSGML v1.0//EN
CALSCALE:GREGORIAN
METHOD:PUBLISH
X-ORIGINAL-URL:https://www.yeehong.com/zh-hans/
X-WR-CALDESC:Events for Yee Hong
REFRESH-INTERVAL;VALUE=DURATION:PT1H
X-Robots-Tag:noindex
X-PUBLISHED-TTL:PT1H
BEGIN:VTIMEZONE
TZID:America/Toronto
BEGIN:DAYLIGHT
TZOFFSETFROM:-0500
TZOFFSETTO:-0400
TZNAME:EDT
DTSTART:20260308T070000
END:DAYLIGHT
BEGIN:STANDARD
TZOFFSETFROM:-0400
TZOFFSETTO:-0500
TZNAME:EST
DTSTART:20261101T060000
END:STANDARD
END:VTIMEZONE
BEGIN:VEVENT
DTSTART;TZID=America/Toronto:20260212T100000
DTEND;TZID=America/Toronto:20260212T113000
DTSTAMP:20260425T150200
CREATED:20260130T194739Z
LAST-MODIFIED:20260130T194739Z
UID:294606-1770890400-1770895800@www.yeehong.com
SUMMARY:多元文化脉络下的心理健康: 华裔长者的关怀与支持 (实体) (普通话/国语)
DESCRIPTION:本讲座介绍心理健康的基本概念，探讨多元文化与移民生活对情绪和心理健康的影响，并提供实用的自我照顾方法及本地支持资源，帮助长者安心、健康地生活。 \nAddress/ 地址:360 Highway 7 E.\, Unit 17\, Richmond Hill \n现场讲座请致电416-412-4571 内线2363
URL:https://www.yeehong.com/zh-hans/cso-event/%e5%a4%9a%e5%85%83%e6%96%87%e5%8c%96%e8%84%89%e7%bb%9c%e4%b8%8b%e7%9a%84%e5%bf%83%e7%90%86%e5%81%a5%e5%ba%b7-%e5%8d%8e%e8%a3%94%e9%95%bf%e8%80%85%e7%9a%84%e5%85%b3%e6%80%80%e4%b8%8e%e6%94%af%e6%8c%81/
CATEGORIES:护老教育及支援服务
END:VEVENT
END:VCALENDAR