  BEGIN:VCALENDAR
VERSION:2.0
PRODID:-//Yee Hong - ECPv6.6.4.2//NONSGML v1.0//EN
CALSCALE:GREGORIAN
METHOD:PUBLISH
X-ORIGINAL-URL:https://www.yeehong.com/zh-hans/
X-WR-CALDESC:Events for Yee Hong
REFRESH-INTERVAL;VALUE=DURATION:PT1H
X-Robots-Tag:noindex
X-PUBLISHED-TTL:PT1H
BEGIN:VTIMEZONE
TZID:America/Toronto
BEGIN:DAYLIGHT
TZOFFSETFROM:-0500
TZOFFSETTO:-0400
TZNAME:EDT
DTSTART:20260308T070000
END:DAYLIGHT
BEGIN:STANDARD
TZOFFSETFROM:-0400
TZOFFSETTO:-0500
TZNAME:EST
DTSTART:20261101T060000
END:STANDARD
END:VTIMEZONE
BEGIN:VEVENT
DTSTART;TZID=America/Toronto:20260224T100000
DTEND;TZID=America/Toronto:20260224T110000
DTSTAMP:20260421T115111
CREATED:20260130T201853Z
LAST-MODIFIED:20260130T201853Z
UID:294639-1771927200-1771930800@www.yeehong.com
SUMMARY:情绪与自我防卫机制 (广东话)
DESCRIPTION:情绪会影响行为和身心健康，而防御机制是人们在无意识中用来应对情绪压力的策略。认识这些机制有助于提升情绪觉察和人际关系。 \n请按此处登记
URL:https://www.yeehong.com/zh-hans/cso-event/%e6%83%85%e7%bb%aa%e4%b8%8e%e8%87%aa%e6%88%91%e9%98%b2%e5%8d%ab%e6%9c%ba%e5%88%b6-%e5%b9%bf%e4%b8%9c%e8%af%9d/
CATEGORIES:护老教育及支援服务
END:VEVENT
END:VCALENDAR