  BEGIN:VCALENDAR
VERSION:2.0
PRODID:-//Yee Hong - ECPv6.6.4.2//NONSGML v1.0//EN
CALSCALE:GREGORIAN
METHOD:PUBLISH
X-WR-CALNAME:Yee Hong
X-ORIGINAL-URL:https://www.yeehong.com/zh-hans/
X-WR-CALDESC:Events for Yee Hong
REFRESH-INTERVAL;VALUE=DURATION:PT1H
X-Robots-Tag:noindex
X-PUBLISHED-TTL:PT1H
BEGIN:VTIMEZONE
TZID:America/Toronto
BEGIN:DAYLIGHT
TZOFFSETFROM:-0500
TZOFFSETTO:-0400
TZNAME:EDT
DTSTART:20260308T070000
END:DAYLIGHT
BEGIN:STANDARD
TZOFFSETFROM:-0400
TZOFFSETTO:-0500
TZNAME:EST
DTSTART:20261101T060000
END:STANDARD
END:VTIMEZONE
BEGIN:VEVENT
DTSTART;TZID=America/Toronto:20260226T100000
DTEND;TZID=America/Toronto:20260226T113000
DTSTAMP:20260421T075823
CREATED:20260130T202903Z
LAST-MODIFIED:20260130T202903Z
UID:294648-1772100000-1772105400@www.yeehong.com
SUMMARY:透过性格测试了解自己与照顾风格(实体)(普通话/ 国语)
DESCRIPTION:本讲座通过 MBTI 和五大性格模型，帮助照护者认识自身特质，了解性格如何影响照护方式，并学习运用优势改善沟通、减压与自我照护。 \nAddress/ 地址:360 Highway 7 E.\, Unit 17\, Richmond Hill\n现场讲座请致电416-412-4571 内线2363
URL:https://www.yeehong.com/zh-hans/cso-event/%e9%80%8f%e8%bf%87%e6%80%a7%e6%a0%bc%e6%b5%8b%e8%af%95%e4%ba%86%e8%a7%a3%e8%87%aa%e5%b7%b1%e4%b8%8e%e7%85%a7%e9%a1%be%e9%a3%8e%e6%a0%bc%e5%ae%9e%e4%bd%93%e6%99%ae%e9%80%9a%e8%af%9d-%e5%9b%bd/
CATEGORIES:护老教育及支援服务
END:VEVENT
END:VCALENDAR