  BEGIN:VCALENDAR
VERSION:2.0
PRODID:-//Yee Hong - ECPv6.6.4.2//NONSGML v1.0//EN
CALSCALE:GREGORIAN
METHOD:PUBLISH
X-WR-CALNAME:Yee Hong
X-ORIGINAL-URL:https://www.yeehong.com/zh-hans/
X-WR-CALDESC:Events for Yee Hong
REFRESH-INTERVAL;VALUE=DURATION:PT1H
X-Robots-Tag:noindex
X-PUBLISHED-TTL:PT1H
BEGIN:VTIMEZONE
TZID:America/Toronto
BEGIN:DAYLIGHT
TZOFFSETFROM:-0500
TZOFFSETTO:-0400
TZNAME:EDT
DTSTART:20260308T070000
END:DAYLIGHT
BEGIN:STANDARD
TZOFFSETFROM:-0400
TZOFFSETTO:-0500
TZNAME:EST
DTSTART:20261101T060000
END:STANDARD
END:VTIMEZONE
BEGIN:VEVENT
DTSTART;TZID=America/Toronto:20260326T100000
DTEND;TZID=America/Toronto:20260326T113000
DTSTAMP:20260421T093849
CREATED:20260220T202138Z
LAST-MODIFIED:20260220T202138Z
UID:294837-1774519200-1774524600@www.yeehong.com
SUMMARY:安大略省遗嘱认证与遗产管理实务 (实体) (普通话 / 国语)
DESCRIPTION:本次讲座将简要介绍遗嘱认证（Probate）、遗产认证流程以及安大略省的遗产管理税。我们将讲解何时需要申请认证、申请步骤、常见时间安排与费用，以及遗嘱执行人在处理遗产时需要注意的关键事项。 \nAddress/ 地址: 360 Highway 7 E.\, Unit 17\, Richmond Hill\n报名请致电416-412-4571 内线2363
URL:https://www.yeehong.com/zh-hans/cso-event/%e5%ae%89%e5%a4%a7%e7%95%a5%e7%9c%81%e9%81%97%e5%98%b1%e8%ae%a4%e8%af%81%e4%b8%8e%e9%81%97%e4%ba%a7%e7%ae%a1%e7%90%86%e5%ae%9e%e5%8a%a1-%e5%ae%9e%e4%bd%93-%e6%99%ae%e9%80%9a%e8%af%9d-%e5%9b%bd/
CATEGORIES:护老教育及支援服务
END:VEVENT
END:VCALENDAR