  BEGIN:VCALENDAR
VERSION:2.0
PRODID:-//Yee Hong - ECPv6.6.4.2//NONSGML v1.0//EN
CALSCALE:GREGORIAN
METHOD:PUBLISH
X-ORIGINAL-URL:https://www.yeehong.com/zh-hans/
X-WR-CALDESC:Events for Yee Hong
REFRESH-INTERVAL;VALUE=DURATION:PT1H
X-Robots-Tag:noindex
X-PUBLISHED-TTL:PT1H
BEGIN:VTIMEZONE
TZID:America/Toronto
BEGIN:DAYLIGHT
TZOFFSETFROM:-0500
TZOFFSETTO:-0400
TZNAME:EDT
DTSTART:20260308T070000
END:DAYLIGHT
BEGIN:STANDARD
TZOFFSETFROM:-0400
TZOFFSETTO:-0500
TZNAME:EST
DTSTART:20261101T060000
END:STANDARD
END:VTIMEZONE
BEGIN:VEVENT
DTSTART;TZID=America/Toronto:20260428T103000
DTEND;TZID=America/Toronto:20260428T113000
DTSTAMP:20260425T084455
CREATED:20260327T160335Z
LAST-MODIFIED:20260327T160335Z
UID:295378-1777372200-1777375800@www.yeehong.com
SUMMARY:与你同行：脑退化症照顾者的沟通、 应对与自我照顾 (广东话)
DESCRIPTION:请按此处登记
URL:https://www.yeehong.com/zh-hans/cso-event/%e4%b8%8e%e4%bd%a0%e5%90%8c%e8%a1%8c%ef%bc%9a%e8%84%91%e9%80%80%e5%8c%96%e7%97%87%e7%85%a7%e9%a1%be%e8%80%85%e7%9a%84%e6%b2%9f%e9%80%9a%e3%80%81-%e5%ba%94%e5%af%b9%e4%b8%8e%e8%87%aa%e6%88%91%e7%85%a7/
CATEGORIES:护老教育及支援服务
END:VEVENT
BEGIN:VEVENT
DTSTART;TZID=America/Toronto:20260429T100000
DTEND;TZID=America/Toronto:20260429T110000
DTSTAMP:20260425T084455
CREATED:20260327T161228Z
LAST-MODIFIED:20260327T161228Z
UID:295386-1777456800-1777460400@www.yeehong.com
SUMMARY:护老聊天室: 音乐与健康 (广东话)
DESCRIPTION:音乐能改善我们的健康和生活品质吗？\n本次讲座我们将探讨音乐如何影响您的整体健康。 \n请按此处登记
URL:https://www.yeehong.com/zh-hans/cso-event/%e6%8a%a4%e8%80%81%e8%81%8a%e5%a4%a9%e5%ae%a4-%e9%9f%b3%e4%b9%90%e4%b8%8e%e5%81%a5%e5%ba%b7-%e5%b9%bf%e4%b8%9c%e8%af%9d/
CATEGORIES:护老教育及支援服务
END:VEVENT
BEGIN:VEVENT
DTSTART;TZID=America/Toronto:20260505T100000
DTEND;TZID=America/Toronto:20260505T110000
DTSTAMP:20260425T084455
CREATED:20260424T200734Z
LAST-MODIFIED:20260424T200819Z
UID:295613-1777975200-1777978800@www.yeehong.com
SUMMARY:动起来…综合养生运动 (广东话)
DESCRIPTION:“想活就动”通过适度的肢体伸展和呼吸调节来增强身体机能，促进血液循环，改善脑细胞代谢，有益于神经系统，保持情绪稳定。参加者必须穿着舒适的衣服和运动鞋。 \n请按此处登记
URL:https://www.yeehong.com/zh-hans/cso-event/295613/
CATEGORIES:护老教育及支援服务
END:VEVENT
BEGIN:VEVENT
DTSTART;TZID=America/Toronto:20260507T100000
DTEND;TZID=America/Toronto:20260507T113000
DTSTAMP:20260425T084455
CREATED:20260424T201930Z
LAST-MODIFIED:20260424T201931Z
UID:295620-1778148000-1778153400@www.yeehong.com
SUMMARY:长者独居安全须知 (实体) (普通话 / 国语)
DESCRIPTION:长者退休后，留在家中的时间会比较多。所以应注意家居安全及减低在家有可能出现的意外风险 \n地址: 360 Highway 7 E.\, Unit 17\, Richmond Hill \n报名请致电416-412-4571 内线2363
URL:https://www.yeehong.com/zh-hans/cso-event/%e9%95%bf%e8%80%85%e7%8b%ac%e5%b1%85%e5%ae%89%e5%85%a8%e9%a1%bb%e7%9f%a5-%e5%ae%9e%e4%bd%93-%e6%99%ae%e9%80%9a%e8%af%9d-%e5%9b%bd%e8%af%ad/
CATEGORIES:护老教育及支援服务
END:VEVENT
BEGIN:VEVENT
DTSTART;TZID=America/Toronto:20260513T030000
DTEND;TZID=America/Toronto:20260513T161500
DTSTAMP:20260425T084455
CREATED:20260424T203518Z
LAST-MODIFIED:20260424T210146Z
UID:295626-1778641200-1778688900@www.yeehong.com
SUMMARY:加拿大牙科保健计划介绍 (英文)
DESCRIPTION:加拿大牙科保健计划 (CDCP) 旨在帮助家庭净收入低于 90\,000 加元且没有保险的加拿大居民减轻口腔保健费用负担。本次讲座将介绍 CDCP 的申请资格、费用、申请流程、续保时间、就诊前需要咨询的问题以及 CDCP 的承保范围。 \n请按JSS登记
URL:https://www.yeehong.com/zh-hans/cso-event/%e5%8a%a0%e6%8b%bf%e5%a4%a7%e7%89%99%e7%a7%91%e4%bf%9d%e5%81%a5%e8%ae%a1%e5%88%92%e4%bb%8b%e7%bb%8d-%e8%8b%b1%e6%96%87/
CATEGORIES:护老教育及支援服务
END:VEVENT
BEGIN:VEVENT
DTSTART;TZID=America/Toronto:20260514T100000
DTEND;TZID=America/Toronto:20260514T110000
DTSTAMP:20260425T084455
CREATED:20260424T205003Z
LAST-MODIFIED:20260424T205003Z
UID:295632-1778752800-1778756400@www.yeehong.com
SUMMARY:消化健康与日常保养 (普通话/ 国语)
DESCRIPTION:本次讲座专为长者及家庭照顾者而设，由自然疗法医生（Naturopathic Doctor）讲解不同年龄阶段的消化道特点，解析常见肠胃问题（如饭后饱胀、胃食管反流、排便异常等），并分享实用的调养方法，包括饮食、营养补充剂及草药茶建议，帮助维护肠胃健康。 \n请按此处登记
URL:https://www.yeehong.com/zh-hans/cso-event/%e6%b6%88%e5%8c%96%e5%81%a5%e5%ba%b7%e4%b8%8e%e6%97%a5%e5%b8%b8%e4%bf%9d%e5%85%bb-%e6%99%ae%e9%80%9a%e8%af%9d-%e5%9b%bd%e8%af%ad/
CATEGORIES:护老教育及支援服务
END:VEVENT
BEGIN:VEVENT
DTSTART;TZID=America/Toronto:20260514T110000
DTEND;TZID=America/Toronto:20260514T120000
DTSTAMP:20260425T084455
CREATED:20260424T205946Z
LAST-MODIFIED:20260424T205946Z
UID:295638-1778756400-1778760000@www.yeehong.com
SUMMARY:药物安全—拆解常见迷思 (广东话)
DESCRIPTION:药物是治疗疾病的工具，若我们对用药的认知不足或有误解，有机会会影响药物的有效性和效果，透过这讲座，齐来一起学习药物安全及拆解常见迷思。 \n地址:North York Chinese Baptist Church 2/F\, 685 Sheppard Ave. East\, Toronto \n备注:此为免费讲座\,查询或报名请致电416-710-9978
URL:https://www.yeehong.com/zh-hans/cso-event/%e8%8d%af%e7%89%a9%e5%ae%89%e5%85%a8-%e6%8b%86%e8%a7%a3%e5%b8%b8%e8%a7%81%e8%bf%b7%e6%80%9d-%e5%b9%bf%e4%b8%9c%e8%af%9d/
CATEGORIES:护老教育及支援服务
END:VEVENT
END:VCALENDAR