  BEGIN:VCALENDAR
VERSION:2.0
PRODID:-//Yee Hong - ECPv6.6.4.2//NONSGML v1.0//EN
CALSCALE:GREGORIAN
METHOD:PUBLISH
X-ORIGINAL-URL:https://www.yeehong.com/zh-hant/
X-WR-CALDESC:Events for Yee Hong
REFRESH-INTERVAL;VALUE=DURATION:PT1H
X-Robots-Tag:noindex
X-PUBLISHED-TTL:PT1H
BEGIN:VTIMEZONE
TZID:America/Toronto
BEGIN:DAYLIGHT
TZOFFSETFROM:-0500
TZOFFSETTO:-0400
TZNAME:EDT
DTSTART:20260308T070000
END:DAYLIGHT
BEGIN:STANDARD
TZOFFSETFROM:-0400
TZOFFSETTO:-0500
TZNAME:EST
DTSTART:20261101T060000
END:STANDARD
END:VTIMEZONE
BEGIN:VEVENT
DTSTART;TZID=America/Toronto:20260211T150000
DTEND;TZID=America/Toronto:20260211T161500
DTSTAMP:20260423T062120
CREATED:20260130T173217Z
LAST-MODIFIED:20260130T173217Z
UID:294594-1770822000-1770826500@www.yeehong.com
SUMMARY:長者牙齒健康 (英文)
DESCRIPTION:口腔衛生是整體健康的重要組成部分。許多老年人透過保持良好的口腔衛生，能夠保持牙齒健康，維持高品質的生活。本次工作坊將介紹一些在家中保持牙齒健康的實用技巧。 \n請按JSS登記
URL:https://www.yeehong.com/zh-hant/cso-event/%e9%95%b7%e8%80%85%e7%89%99%e9%bd%92%e5%81%a5%e5%ba%b7-%e8%8b%b1%e6%96%87-2/
CATEGORIES:護老教育及支援服務
END:VEVENT
END:VCALENDAR