  BEGIN:VCALENDAR
VERSION:2.0
PRODID:-//Yee Hong - ECPv6.6.4.2//NONSGML v1.0//EN
CALSCALE:GREGORIAN
METHOD:PUBLISH
X-WR-CALNAME:Yee Hong
X-ORIGINAL-URL:https://www.yeehong.com/zh-hant/
X-WR-CALDESC:Events for Yee Hong
REFRESH-INTERVAL;VALUE=DURATION:PT1H
X-Robots-Tag:noindex
X-PUBLISHED-TTL:PT1H
BEGIN:VTIMEZONE
TZID:America/Toronto
BEGIN:DAYLIGHT
TZOFFSETFROM:-0500
TZOFFSETTO:-0400
TZNAME:EDT
DTSTART:20260308T070000
END:DAYLIGHT
BEGIN:STANDARD
TZOFFSETFROM:-0400
TZOFFSETTO:-0500
TZNAME:EST
DTSTART:20261101T060000
END:STANDARD
END:VTIMEZONE
BEGIN:VEVENT
DTSTART;TZID=America/Toronto:20260212T100000
DTEND;TZID=America/Toronto:20260212T113000
DTSTAMP:20260423T042309
CREATED:20260130T193702Z
LAST-MODIFIED:20260130T193702Z
UID:294603-1770890400-1770895800@www.yeehong.com
SUMMARY:多元文化脈絡下的心理健康: 華裔長者的關懷與支持 (實體) (普通話/ 國語)
DESCRIPTION:本講座介紹心理健康的基本概念，探討多元文化與移民生活對情緒與心理健康的影響，並提供實用的自我照顧方法及本地支援資源，幫助長者安心、健康地生活。 \n地址:360 Highway 7 E.\, Unit 17\, Richmond Hill \n現場講座請致電416-412-4571 內線2363
URL:https://www.yeehong.com/zh-hant/cso-event/%e5%a4%9a%e5%85%83%e6%96%87%e5%8c%96%e8%84%88%e7%b5%a1%e4%b8%8b%e7%9a%84%e5%bf%83%e7%90%86%e5%81%a5%e5%ba%b7-%e8%8f%af%e8%a3%94%e9%95%b7%e8%80%85%e7%9a%84%e9%97%9c%e6%87%b7%e8%88%87%e6%94%af%e6%8c%81/
CATEGORIES:護老教育及支援服務
END:VEVENT
END:VCALENDAR