  BEGIN:VCALENDAR
VERSION:2.0
PRODID:-//Yee Hong - ECPv6.6.4.2//NONSGML v1.0//EN
CALSCALE:GREGORIAN
METHOD:PUBLISH
X-WR-CALNAME:Yee Hong
X-ORIGINAL-URL:https://www.yeehong.com/zh-hant/
X-WR-CALDESC:Events for Yee Hong
REFRESH-INTERVAL;VALUE=DURATION:PT1H
X-Robots-Tag:noindex
X-PUBLISHED-TTL:PT1H
BEGIN:VTIMEZONE
TZID:America/Toronto
BEGIN:DAYLIGHT
TZOFFSETFROM:-0500
TZOFFSETTO:-0400
TZNAME:EDT
DTSTART:20260308T070000
END:DAYLIGHT
BEGIN:STANDARD
TZOFFSETFROM:-0400
TZOFFSETTO:-0500
TZNAME:EST
DTSTART:20261101T060000
END:STANDARD
END:VTIMEZONE
BEGIN:VEVENT
DTSTART;TZID=America/Toronto:20260224T100000
DTEND;TZID=America/Toronto:20260224T110000
DTSTAMP:20260421T093848
CREATED:20260130T201535Z
LAST-MODIFIED:20260130T201535Z
UID:294637-1771927200-1771930800@www.yeehong.com
SUMMARY:情緒與自我防衛機制 (廣東話)
DESCRIPTION:情緒會影響行為與身心健康，而防衛機制是人們在無意識中用來因應情緒壓力的策略。認識這些機制有助於提升情緒覺察與人際關係。 \n請按此處登記
URL:https://www.yeehong.com/zh-hant/cso-event/%e6%83%85%e7%b7%92%e8%88%87%e8%87%aa%e6%88%91%e9%98%b2%e8%a1%9b%e6%a9%9f%e5%88%b6-%e5%bb%a3%e6%9d%b1%e8%a9%b1/
CATEGORIES:護老教育及支援服務
END:VEVENT
END:VCALENDAR