  BEGIN:VCALENDAR
VERSION:2.0
PRODID:-//Yee Hong - ECPv6.6.4.2//NONSGML v1.0//EN
CALSCALE:GREGORIAN
METHOD:PUBLISH
X-WR-CALNAME:Yee Hong
X-ORIGINAL-URL:https://www.yeehong.com/zh-hant/
X-WR-CALDESC:Events for Yee Hong
REFRESH-INTERVAL;VALUE=DURATION:PT1H
X-Robots-Tag:noindex
X-PUBLISHED-TTL:PT1H
BEGIN:VTIMEZONE
TZID:America/Toronto
BEGIN:DAYLIGHT
TZOFFSETFROM:-0500
TZOFFSETTO:-0400
TZNAME:EDT
DTSTART:20260308T070000
END:DAYLIGHT
BEGIN:STANDARD
TZOFFSETFROM:-0400
TZOFFSETTO:-0500
TZNAME:EST
DTSTART:20261101T060000
END:STANDARD
END:VTIMEZONE
BEGIN:VEVENT
DTSTART;TZID=America/Toronto:20260226T100000
DTEND;TZID=America/Toronto:20260226T113000
DTSTAMP:20260421T044718
CREATED:20260130T202622Z
LAST-MODIFIED:20260130T202622Z
UID:294645-1772100000-1772105400@www.yeehong.com
SUMMARY:透過性格測試了解自己與照顧風格(實體)(普通話/ 國語)
DESCRIPTION:本講座透過 MBTI 與五大性格模型，協助照顧者認識自身特質，了解不同性格如何影響照顧方式，並學習以優勢提升溝通、減壓與自我照顧 \n現場講座請致電416-412-4571 內線2363
URL:https://www.yeehong.com/zh-hant/cso-event/%e9%80%8f%e9%81%8e%e6%80%a7%e6%a0%bc%e6%b8%ac%e8%a9%a6%e4%ba%86%e8%a7%a3%e8%87%aa%e5%b7%b1%e8%88%87%e7%85%a7%e9%a1%a7%e9%a2%a8%e6%a0%bc%e5%af%a6%e9%ab%94%e6%99%ae%e9%80%9a%e8%a9%b1-%e5%9c%8b/
CATEGORIES:護老教育及支援服務
END:VEVENT
END:VCALENDAR