  BEGIN:VCALENDAR
VERSION:2.0
PRODID:-//Yee Hong - ECPv6.6.4.2//NONSGML v1.0//EN
CALSCALE:GREGORIAN
METHOD:PUBLISH
X-WR-CALNAME:Yee Hong
X-ORIGINAL-URL:https://www.yeehong.com/zh-hant/
X-WR-CALDESC:Events for Yee Hong
REFRESH-INTERVAL;VALUE=DURATION:PT1H
X-Robots-Tag:noindex
X-PUBLISHED-TTL:PT1H
BEGIN:VTIMEZONE
TZID:America/Toronto
BEGIN:DAYLIGHT
TZOFFSETFROM:-0500
TZOFFSETTO:-0400
TZNAME:EDT
DTSTART:20260308T070000
END:DAYLIGHT
BEGIN:STANDARD
TZOFFSETFROM:-0400
TZOFFSETTO:-0500
TZNAME:EST
DTSTART:20261101T060000
END:STANDARD
END:VTIMEZONE
BEGIN:VEVENT
DTSTART;TZID=America/Toronto:20260326T100000
DTEND;TZID=America/Toronto:20260326T113000
DTSTAMP:20260420T110411
CREATED:20260220T202004Z
LAST-MODIFIED:20260220T202004Z
UID:294835-1774519200-1774524600@www.yeehong.com
SUMMARY:安大略省遺囑認證與遺產管理實務指南 (實體) (普通話/ 國語)
DESCRIPTION:本次講座將簡要介紹遺囑認證（Probate）、遺產認證流程以及安大略省的遺產管理稅。我們將講解何時需要申請認證、申請步驟、常見時間表與費用，以及遺囑執行人在處理遺產時需要注意的關鍵事項。 \n地址:360 Highway 7 E.\, Unit 17\, Richmond Hill\n現場講座請致電416-412-4571 內線2363
URL:https://www.yeehong.com/zh-hant/cso-event/%e5%ae%89%e5%a4%a7%e7%95%a5%e7%9c%81%e9%81%ba%e5%9b%91%e8%aa%8d%e8%ad%89%e8%88%87%e9%81%ba%e7%94%a2%e7%ae%a1%e7%90%86%e5%af%a6%e5%8b%99%e6%8c%87%e5%8d%97-%e5%af%a6%e9%ab%94-%e6%99%ae%e9%80%9a/
CATEGORIES:護老教育及支援服務
END:VEVENT
END:VCALENDAR